BEGIN:VCALENDAR
VERSION:2.0
PRODID:-//The Resource Center - ECPv6.15.20//NONSGML v1.0//EN
CALSCALE:GREGORIAN
METHOD:PUBLISH
X-WR-CALNAME:The Resource Center
X-ORIGINAL-URL:https://resourcecenter.org
X-WR-CALDESC:Events for The Resource Center
REFRESH-INTERVAL;VALUE=DURATION:PT1H
X-Robots-Tag:noindex
X-PUBLISHED-TTL:PT1H
BEGIN:VTIMEZONE
TZID:America/New_York
BEGIN:DAYLIGHT
TZOFFSETFROM:-0500
TZOFFSETTO:-0400
TZNAME:EDT
DTSTART:20240310T070000
END:DAYLIGHT
BEGIN:STANDARD
TZOFFSETFROM:-0400
TZOFFSETTO:-0500
TZNAME:EST
DTSTART:20241103T060000
END:STANDARD
BEGIN:DAYLIGHT
TZOFFSETFROM:-0500
TZOFFSETTO:-0400
TZNAME:EDT
DTSTART:20250309T070000
END:DAYLIGHT
BEGIN:STANDARD
TZOFFSETFROM:-0400
TZOFFSETTO:-0500
TZNAME:EST
DTSTART:20251102T060000
END:STANDARD
BEGIN:DAYLIGHT
TZOFFSETFROM:-0500
TZOFFSETTO:-0400
TZNAME:EDT
DTSTART:20260308T070000
END:DAYLIGHT
BEGIN:STANDARD
TZOFFSETFROM:-0400
TZOFFSETTO:-0500
TZNAME:EST
DTSTART:20261101T060000
END:STANDARD
END:VTIMEZONE
BEGIN:VEVENT
DTSTART;VALUE=DATE:20250704
DTEND;VALUE=DATE:20250705
DTSTAMP:20260421T224528
CREATED:20250102T140141Z
LAST-MODIFIED:20250102T140141Z
UID:34098-1751587200-1751673599@resourcecenter.org
SUMMARY:2025 TRC Holiday / Break 7
DESCRIPTION:
URL:https://resourcecenter.org/event/2025-trc-holiday-break-7/
LOCATION:NY
END:VEVENT
BEGIN:VEVENT
DTSTART;TZID=America/New_York:20250719T080000
DTEND;TZID=America/New_York:20250719T150000
DTSTAMP:20260421T224528
CREATED:20220218T161204Z
LAST-MODIFIED:20250609T192209Z
UID:1785-1752912000-1752937200@resourcecenter.org
SUMMARY:Laurel Memorial Run and Walk
DESCRIPTION:The Laurel Memorial Run/Walk was created by Wayne and Elaine Hotelling of Silver Creek\, NY\, in honor of their oldest daughter\, Laurel\, who had Down syndrome. Laurel lived a full life until passing away in 2017 at the age of 54. This year’s event takes place on July 19\, 2025.  For more information and to register\, please click here!
URL:https://resourcecenter.org/event/laurel-memorial-run-and-walk/
LOCATION:Silver Creek\, Silver Creek\, 14136
CATEGORIES:Special Events
ATTACH;FMTTYPE=image/jpeg:https://resourcecenter.org/wp-content/uploads/2022/02/1st-place-team.jpg
END:VEVENT
END:VCALENDAR