BEGIN:VCALENDAR
VERSION:2.0
PRODID:-//The Resource Center - ECPv6.15.20//NONSGML v1.0//EN
CALSCALE:GREGORIAN
METHOD:PUBLISH
X-ORIGINAL-URL:https://resourcecenter.org
X-WR-CALDESC:Events for The Resource Center
REFRESH-INTERVAL;VALUE=DURATION:PT1H
X-Robots-Tag:noindex
X-PUBLISHED-TTL:PT1H
BEGIN:VTIMEZONE
TZID:America/New_York
BEGIN:DAYLIGHT
TZOFFSETFROM:-0500
TZOFFSETTO:-0400
TZNAME:EDT
DTSTART:20250309T070000
END:DAYLIGHT
BEGIN:STANDARD
TZOFFSETFROM:-0400
TZOFFSETTO:-0500
TZNAME:EST
DTSTART:20251102T060000
END:STANDARD
BEGIN:DAYLIGHT
TZOFFSETFROM:-0500
TZOFFSETTO:-0400
TZNAME:EDT
DTSTART:20260308T070000
END:DAYLIGHT
BEGIN:STANDARD
TZOFFSETFROM:-0400
TZOFFSETTO:-0500
TZNAME:EST
DTSTART:20261101T060000
END:STANDARD
BEGIN:DAYLIGHT
TZOFFSETFROM:-0500
TZOFFSETTO:-0400
TZNAME:EDT
DTSTART:20270314T070000
END:DAYLIGHT
BEGIN:STANDARD
TZOFFSETFROM:-0400
TZOFFSETTO:-0500
TZNAME:EST
DTSTART:20271107T060000
END:STANDARD
END:VTIMEZONE
BEGIN:VEVENT
DTSTART;VALUE=DATE:20260703
DTEND;VALUE=DATE:20260704
DTSTAMP:20260421T222354
CREATED:20251021T210238Z
LAST-MODIFIED:20251021T210238Z
UID:34595-1783036800-1783123199@resourcecenter.org
SUMMARY:2026 TRC Holiday / Break 6
DESCRIPTION:
URL:https://resourcecenter.org/event/2026-trc-holiday-break-6/
LOCATION:NY
END:VEVENT
BEGIN:VEVENT
DTSTART;TZID=America/New_York:20260720T110000
DTEND;TZID=America/New_York:20260720T180000
DTSTAMP:20260421T222354
CREATED:20220218T161753Z
LAST-MODIFIED:20251021T203836Z
UID:1791-1784545200-1784570400@resourcecenter.org
SUMMARY:TRC Golf Classic
DESCRIPTION:The 30th Annual TRC Golf Classic will take place July 20\, 2026. In its first 29 years\, the tournament has netted over $1.92 million for the the TRC Foundation Fund\, which raises money to improve the lives of people with disabling conditions in Chautauqua County. Thanks largely to the tournament’s success\, the TRC Foundation Fund at the Chautauqua Region Community Foundation has over $2 million in assets and has contributed in excess of $1 million in the form of grants and support projects on behalf of individuals with disabling conditions since 1995. \nClick here to register!
URL:https://resourcecenter.org/event/trc-golf-classic/
LOCATION:Moon Brook Country Club\, 2879 N Main Street Ext\, Jamestown\, NY\, 14701\, United States
CATEGORIES:Special Events
ATTACH;FMTTYPE=image/jpeg:https://resourcecenter.org/wp-content/uploads/2022/02/Lakeshore-1-scaled.jpg
END:VEVENT
BEGIN:VEVENT
DTSTART;VALUE=DATE:20260907
DTEND;VALUE=DATE:20260908
DTSTAMP:20260421T222354
CREATED:20251021T210301Z
LAST-MODIFIED:20251021T210301Z
UID:34597-1788739200-1788825599@resourcecenter.org
SUMMARY:2026 TRC Holiday / Break 7
DESCRIPTION:
URL:https://resourcecenter.org/event/2026-trc-holiday-break-7/
LOCATION:NY
END:VEVENT
BEGIN:VEVENT
DTSTART;VALUE=DATE:20261126
DTEND;VALUE=DATE:20261127
DTSTAMP:20260421T222354
CREATED:20251021T210329Z
LAST-MODIFIED:20251021T210329Z
UID:34599-1795651200-1795737599@resourcecenter.org
SUMMARY:2026 TRC Holiday / Break 8
DESCRIPTION:
URL:https://resourcecenter.org/event/2026-trc-holiday-break-8/
LOCATION:NY
END:VEVENT
BEGIN:VEVENT
DTSTART;VALUE=DATE:20261127
DTEND;VALUE=DATE:20261128
DTSTAMP:20260421T222354
CREATED:20251021T210401Z
LAST-MODIFIED:20251021T210401Z
UID:34601-1795737600-1795823999@resourcecenter.org
SUMMARY:2026 TRC Holiday / Break 9
DESCRIPTION:
URL:https://resourcecenter.org/event/2026-trc-holiday-break-9/
LOCATION:NY
END:VEVENT
BEGIN:VEVENT
DTSTART;VALUE=DATE:20261224
DTEND;VALUE=DATE:20261225
DTSTAMP:20260421T222354
CREATED:20251021T210428Z
LAST-MODIFIED:20251021T210428Z
UID:34603-1798070400-1798156799@resourcecenter.org
SUMMARY:2026 TRC Holiday / Break 10
DESCRIPTION:
URL:https://resourcecenter.org/event/2026-trc-holiday-break-10/
LOCATION:NY
END:VEVENT
BEGIN:VEVENT
DTSTART;VALUE=DATE:20261225
DTEND;VALUE=DATE:20261226
DTSTAMP:20260421T222354
CREATED:20251021T210451Z
LAST-MODIFIED:20251021T210451Z
UID:34605-1798156800-1798243199@resourcecenter.org
SUMMARY:2026 TRC Holiday / Break 11
DESCRIPTION:
URL:https://resourcecenter.org/event/2026-trc-holiday-break-11/
LOCATION:NY
END:VEVENT
END:VCALENDAR