BEGIN:VCALENDAR
VERSION:2.0
PRODID:-//The Resource Center - ECPv6.15.20//NONSGML v1.0//EN
CALSCALE:GREGORIAN
METHOD:PUBLISH
X-ORIGINAL-URL:https://resourcecenter.org
X-WR-CALDESC:Events for The Resource Center
REFRESH-INTERVAL;VALUE=DURATION:PT1H
X-Robots-Tag:noindex
X-PUBLISHED-TTL:PT1H
BEGIN:VTIMEZONE
TZID:America/New_York
BEGIN:DAYLIGHT
TZOFFSETFROM:-0500
TZOFFSETTO:-0400
TZNAME:EDT
DTSTART:20240310T070000
END:DAYLIGHT
BEGIN:STANDARD
TZOFFSETFROM:-0400
TZOFFSETTO:-0500
TZNAME:EST
DTSTART:20241103T060000
END:STANDARD
BEGIN:DAYLIGHT
TZOFFSETFROM:-0500
TZOFFSETTO:-0400
TZNAME:EDT
DTSTART:20250309T070000
END:DAYLIGHT
BEGIN:STANDARD
TZOFFSETFROM:-0400
TZOFFSETTO:-0500
TZNAME:EST
DTSTART:20251102T060000
END:STANDARD
BEGIN:DAYLIGHT
TZOFFSETFROM:-0500
TZOFFSETTO:-0400
TZNAME:EDT
DTSTART:20260308T070000
END:DAYLIGHT
BEGIN:STANDARD
TZOFFSETFROM:-0400
TZOFFSETTO:-0500
TZNAME:EST
DTSTART:20261101T060000
END:STANDARD
END:VTIMEZONE
BEGIN:VEVENT
DTSTART;TZID=America/New_York:20251121T180000
DTEND;TZID=America/New_York:20251121T200000
DTSTAMP:20260421T175703
CREATED:20251112T171652Z
LAST-MODIFIED:20251112T190531Z
UID:34644-1763748000-1763755200@resourcecenter.org
SUMMARY:William Haenggi Celebration of Life
DESCRIPTION:People supported by The Resource Center who recently passed away will be remembered at our annual William Haenggi Celebration of Life on Friday\, November 21\, in our facility at 200 Dunham Avenue. Anyone is welcome to attend this free event. At the start\, we’ll remember people with developmental disabilities who received Residential supports from TRC and who died since the last Celebration of Life was held in November 2024. Following the remembrance\, there will be a dance. Those planning to attend should park in the rear lot and use the door at the top of the ramp. The Celebration of Life is named in memory of Bill Haenggi\, a longtime member of TRC’s Board of Directors.
URL:https://resourcecenter.org/event/william-haenggi-celebration-of-life-2/
LOCATION:200 Dunham Avenue Jamestown NY 14048\, 64 Central Avenue\, Dunkirk\, NY\, 14048\, United States
CATEGORIES:Special Events
ATTACH;FMTTYPE=image/jpeg:https://resourcecenter.org/wp-content/uploads/2025/11/Cloud_Initials_2025.jpg
END:VEVENT
END:VCALENDAR