BEGIN:VCALENDAR
VERSION:2.0
PRODID:-//The Resource Center - ECPv6.15.20//NONSGML v1.0//EN
CALSCALE:GREGORIAN
METHOD:PUBLISH
X-ORIGINAL-URL:https://resourcecenter.org
X-WR-CALDESC:Events for The Resource Center
REFRESH-INTERVAL;VALUE=DURATION:PT1H
X-Robots-Tag:noindex
X-PUBLISHED-TTL:PT1H
BEGIN:VTIMEZONE
TZID:America/New_York
BEGIN:DAYLIGHT
TZOFFSETFROM:-0500
TZOFFSETTO:-0400
TZNAME:EDT
DTSTART:20240310T070000
END:DAYLIGHT
BEGIN:STANDARD
TZOFFSETFROM:-0400
TZOFFSETTO:-0500
TZNAME:EST
DTSTART:20241103T060000
END:STANDARD
BEGIN:DAYLIGHT
TZOFFSETFROM:-0500
TZOFFSETTO:-0400
TZNAME:EDT
DTSTART:20250309T070000
END:DAYLIGHT
BEGIN:STANDARD
TZOFFSETFROM:-0400
TZOFFSETTO:-0500
TZNAME:EST
DTSTART:20251102T060000
END:STANDARD
BEGIN:DAYLIGHT
TZOFFSETFROM:-0500
TZOFFSETTO:-0400
TZNAME:EDT
DTSTART:20260308T070000
END:DAYLIGHT
BEGIN:STANDARD
TZOFFSETFROM:-0400
TZOFFSETTO:-0500
TZNAME:EST
DTSTART:20261101T060000
END:STANDARD
END:VTIMEZONE
BEGIN:VEVENT
DTSTART;TZID=America/New_York:20251030T113000
DTEND;TZID=America/New_York:20251030T130000
DTSTAMP:20260421T175300
CREATED:20251007T164128Z
LAST-MODIFIED:20251010T122828Z
UID:34552-1761823800-1761829200@resourcecenter.org
SUMMARY:Ability Awareness Awards
DESCRIPTION:The Resource Center will host the 36th Ability Awareness Awards Celebration on October 30 at 11:30 am at the Chautauqua Harbor Hotel in Celoron. Reservations are $30 per person and are required no later than October 21\, 2025. \nPlease join us for a celebration as we honor the accomplishments of wonderful people in our community doing great things! \nRegister Here: https://resourcecenter.org/ability-awareness-awards-registration \n 
URL:https://resourcecenter.org/event/ability-awareness-awards/
LOCATION:Chautauqua Harbor Hotel\, 10 Dunham Avenue\, Celoron\, NY\, 14720\, United States
CATEGORIES:Special Events
ATTACH;FMTTYPE=image/png:https://resourcecenter.org/wp-content/uploads/2025/10/2025-Ability-Awareness-Awards-Invite-SKW-1.png
END:VEVENT
END:VCALENDAR